BEGIN:VCALENDAR
VERSION:2.0
PRODID:-//Sabre//Sabre VObject 4.5.8//EN
CALSCALE:GREGORIAN
BEGIN:VEVENT
UID:sabre-vobject-aed5977c-8e27-42bf-8677-dd27cd32c2b5
DTSTAMP:20260421T222805Z
SUMMARY:Hofgartenfest
DESCRIPTION:https://regioningolstadt.com/hofgartenfest_id31475
DTSTART;TZID=Europe/Berlin:20260614T110000
DURATION:PT30M
LOCATION:Hofgarten
END:VEVENT
END:VCALENDAR
