BEGIN:VCALENDAR
VERSION:2.0
PRODID:-//Sabre//Sabre VObject 4.5.8//EN
CALSCALE:GREGORIAN
BEGIN:VEVENT
UID:sabre-vobject-73de4cf0-cc28-44a6-b1a9-183db4417a28
DTSTAMP:20260423T113529Z
SUMMARY:Herbstkonzert
DESCRIPTION:https://regioningolstadt.com/herbstkonzert_id31448
DTSTART;TZID=Europe/Berlin:20251116T180000
DURATION:PT30M
LOCATION:Festsaal des Stadttheaters Ingolstadt\, Schloßlände 1\, 85049 In
 golstadt
END:VEVENT
END:VCALENDAR
