BEGIN:VCALENDAR
VERSION:2.0
PRODID:-//Sabre//Sabre VObject 4.5.8//EN
CALSCALE:GREGORIAN
BEGIN:VEVENT
UID:sabre-vobject-d026c5e7-6ac0-403e-a006-a03d8fbd6488
DTSTAMP:20260424T174731Z
SUMMARY:Neujahrskonzert
DESCRIPTION:https://regioningolstadt.com/neujahrskonzert_id31446
DTSTART;TZID=Europe/Berlin:20250105T180000
DURATION:PT30M
LOCATION:Festsaal des Stadttheaters Ingolstadt\, Schloßlände 1\, 85049 In
 golstadt
END:VEVENT
END:VCALENDAR
