BEGIN:VCALENDAR
VERSION:2.0
PRODID:-//Sabre//Sabre VObject 4.5.8//EN
CALSCALE:GREGORIAN
BEGIN:VEVENT
UID:sabre-vobject-ed57c05c-f07b-4e9b-9285-0eee6ed7273e
DTSTAMP:20260423T182414Z
SUMMARY:"Hier kommt Franz!"
DESCRIPTION:https://regioningolstadt.com/hier-kommt-franz_id31441
DTSTART;TZID=Europe/Berlin:20240609T180000
DURATION:PT30M
LOCATION:Festsaal des Stadttheaters Ingolstadt\, Schloßlände 1\, 85049 In
 golstadt
END:VEVENT
END:VCALENDAR
