BEGIN:VCALENDAR
VERSION:2.0
PRODID:-//Sabre//Sabre VObject 4.5.8//EN
CALSCALE:GREGORIAN
BEGIN:VEVENT
UID:sabre-vobject-b0c134b5-794d-41cd-be6f-c0230f609550
DTSTAMP:20260421T000106Z
SUMMARY:Forgotten Dreams
DESCRIPTION:https://regioningolstadt.com/forgotten-dreams_id31440
DTSTART;TZID=Europe/Berlin:20240414T170000
DURATION:PT30M
LOCATION:Kirche St. Pius\, Richard-Wagner-Straße 26\, 85057 Ingolstadt
END:VEVENT
END:VCALENDAR
