BEGIN:VCALENDAR
VERSION:2.0
PRODID:-//Sabre//Sabre VObject 4.5.8//EN
CALSCALE:GREGORIAN
BEGIN:VEVENT
UID:sabre-vobject-7e189004-06bf-429e-9569-dd4811dc6a96
DTSTAMP:20260420T175813Z
SUMMARY:Gemeinsames Konzert mit der Partnermusikschule Murska Sobota
DESCRIPTION:https://regioningolstadt.com/gemeinsames-konzert-mit-der-partne
 rmusikschule-murska-sobota_id29852
DTSTART;TZID=Europe/Berlin:20240413T193000
DURATION:PT30M
LOCATION:Volkshochschule Ingolstadt - Rudolf-Koller-Saal\, Hallstraße 5\, 
 85049 Ingolstadt
END:VEVENT
END:VCALENDAR
