BEGIN:VCALENDAR
VERSION:2.0
PRODID:-//Sabre//Sabre VObject 4.5.8//EN
CALSCALE:GREGORIAN
BEGIN:VEVENT
UID:sabre-vobject-5133e265-e2c6-4304-8ab5-e927cf30c073
DTSTAMP:20260420T175047Z
SUMMARY:Tourismusforum Oberbayern 2024 – Tourismus neu denken im Zeitalte
 r von Künstlicher Intelligenz und Digitalisierung
DESCRIPTION:https://regioningolstadt.com/tourismusforum-oberbayern-2024-tou
 rismus-neu-denken-im-zeitalter-von-kuenstlicher-intelligenz-und-digitalisi
 erung_id29822
DTSTART;TZID=Europe/Berlin:20240415T100000
DTEND;TZID=Europe/Berlin:20240415T150000
LOCATION:Maritim Hotel Congress Centrum Ingolstadt\, Gießerei-Platz 1\, 85
 049 Ingolstadt
END:VEVENT
END:VCALENDAR
