BEGIN:VCALENDAR
VERSION:2.0
PRODID:-//Sabre//Sabre VObject 4.5.8//EN
CALSCALE:GREGORIAN
BEGIN:VEVENT
UID:sabre-vobject-3b1365d2-dfbe-4738-8fc4-bf873119b662
DTSTAMP:20260421T025432Z
SUMMARY:Kinderprogramm: Auf den Spuren der Marieluise Fleißer
DESCRIPTION:https://regioningolstadt.com/kinderprogramm-auf-den-spuren-der-
 marieluise-fleisser_id29689
DTSTART;TZID=Europe/Berlin:20240414T140000
DTEND;TZID=Europe/Berlin:20240414T160000
LOCATION:Marieluise-Fleißer-Museum\, Kupferstraße 18\, 85049 Ingolstadt
END:VEVENT
END:VCALENDAR
