BEGIN:VCALENDAR
VERSION:2.0
PRODID:-//Sabre//Sabre VObject 4.5.8//EN
CALSCALE:GREGORIAN
BEGIN:VEVENT
UID:sabre-vobject-eda1e54b-6b6b-4df5-8c90-8a5727230583
DTSTAMP:20260420T013528Z
SUMMARY:Kinder im Museum: Ein Tag im Mittelalter
DESCRIPTION:https://regioningolstadt.com/kinder-im-museum-ein-tag-im-mittel
 alter_id29688
DTSTART;TZID=Europe/Berlin:20240413T103000
DTEND;TZID=Europe/Berlin:20240413T153000
LOCATION:Stadtmuseum im Kavalier Hepp\, Auf der Schanz 45\, 85049 Ingolstad
 t
END:VEVENT
END:VCALENDAR
