BEGIN:VCALENDAR
VERSION:2.0
PRODID:-//Sabre//Sabre VObject 4.5.8//EN
CALSCALE:GREGORIAN
BEGIN:VEVENT
UID:sabre-vobject-d9a2a65b-782a-4e1a-a559-c471ab4c5a34
DTSTAMP:20260425T233128Z
SUMMARY:Fördermittel kompakt: Finanziere Deine Gründung I
DESCRIPTION:https://regioningolstadt.com/foerdermittel-kompakt-finanziere-d
 eine-gruendung-i_id29651
DTSTART;TZID=Europe/Berlin:20240606T150000
DTEND;TZID=Europe/Berlin:20240606T160000
LOCATION:Online-Veranstaltung\, \,  
END:VEVENT
END:VCALENDAR
