BEGIN:VCALENDAR
VERSION:2.0
PRODID:-//Sabre//Sabre VObject 4.5.8//EN
CALSCALE:GREGORIAN
BEGIN:VEVENT
UID:sabre-vobject-41aab821-f600-4f16-87f0-9fbccc05f299
DTSTAMP:20260422T124147Z
SUMMARY:Sommer Donauschwimmen
DESCRIPTION:https://regioningolstadt.com/sommer-donauschwimmen_id29574
DTSTART;TZID=Europe/Berlin:20260801T140000
DTEND;TZID=Europe/Berlin:20260801T170000
LOCATION:Brandlwiese Neuburg 
END:VEVENT
END:VCALENDAR
