BEGIN:VCALENDAR
VERSION:2.0
PRODID:-//Sabre//Sabre VObject 4.5.8//EN
CALSCALE:GREGORIAN
BEGIN:VEVENT
UID:sabre-vobject-62aab116-b7bb-40c1-8b81-5c1f308acbc1
DTSTAMP:20260425T201516Z
SUMMARY:Kneipenfestival Stadt Schall
DESCRIPTION:https://regioningolstadt.com/kneipenfestival-stadt-schall_id295
 38
DTSTART;TZID=Europe/Berlin:20240420T000000
DURATION:PT30M
LOCATION:Schrobenhausen \, gesamte Innenstadt
END:VEVENT
END:VCALENDAR
