BEGIN:VCALENDAR
VERSION:2.0
PRODID:-//Sabre//Sabre VObject 4.5.8//EN
CALSCALE:GREGORIAN
BEGIN:VEVENT
UID:sabre-vobject-c6bef175-c712-4ad7-8fe9-13aeedcc5fb8
DTSTAMP:20260420T190355Z
SUMMARY:Wochenmarkt Schrobenhausen
DESCRIPTION:https://regioningolstadt.com/wochenmarkt-schrobenhausen_id29487
DTSTART;TZID=Europe/Berlin:20240914T080000
DTEND;TZID=Europe/Berlin:20240914T130000
LOCATION:Lenbachplatz\, Lenbachplatz\, 86529 Schrobenhausen
END:VEVENT
END:VCALENDAR
