BEGIN:VCALENDAR
VERSION:2.0
PRODID:-//Sabre//Sabre VObject 4.5.8//EN
CALSCALE:GREGORIAN
BEGIN:VEVENT
UID:sabre-vobject-51beef1b-551d-4064-b980-d9b4866519c8
DTSTAMP:20260422T024256Z
SUMMARY:Wochenmarkt Schrobenhausen
DESCRIPTION:https://regioningolstadt.com/wochenmarkt-schrobenhausen_id29475
DTSTART;TZID=Europe/Berlin:20240803T080000
DTEND;TZID=Europe/Berlin:20240803T130000
LOCATION:Lenbachplatz\, Lenbachplatz\, 86529 Schrobenhausen
END:VEVENT
END:VCALENDAR
