BEGIN:VCALENDAR
VERSION:2.0
PRODID:-//Sabre//Sabre VObject 4.5.8//EN
CALSCALE:GREGORIAN
BEGIN:VEVENT
UID:sabre-vobject-1bf1a696-e6a6-4d0f-bfa4-0b1f4a089c12
DTSTAMP:20260422T191616Z
SUMMARY:Wochenmarkt Schrobenhausen
DESCRIPTION:https://regioningolstadt.com/wochenmarkt-schrobenhausen_id29470
DTSTART;TZID=Europe/Berlin:20240718T070000
DTEND;TZID=Europe/Berlin:20240718T130000
LOCATION:Lenbachplatz\, Lenbachplatz\, 86529 Schrobenhausen
END:VEVENT
END:VCALENDAR
