BEGIN:VCALENDAR
VERSION:2.0
PRODID:-//Sabre//Sabre VObject 4.5.8//EN
CALSCALE:GREGORIAN
BEGIN:VEVENT
UID:sabre-vobject-c4c1912a-3f9d-46d0-a0c1-ff20ab711395
DTSTAMP:20260424T085110Z
SUMMARY:Wochenmarkt Schrobenhausen
DESCRIPTION:https://regioningolstadt.com/wochenmarkt-schrobenhausen_id29456
DTSTART;TZID=Europe/Berlin:20240525T080000
DTEND;TZID=Europe/Berlin:20240525T130000
LOCATION:Lenbachplatz\, Lenbachplatz\, 86529 Schrobenhausen
END:VEVENT
END:VCALENDAR
