BEGIN:VCALENDAR
VERSION:2.0
PRODID:-//Sabre//Sabre VObject 4.5.8//EN
CALSCALE:GREGORIAN
BEGIN:VEVENT
UID:sabre-vobject-311fa4f1-a6b4-4daa-94d5-c2928ea3540b
DTSTAMP:20260425T122504Z
SUMMARY:Wochenmarkt Schrobenhausen
DESCRIPTION:https://regioningolstadt.com/wochenmarkt-schrobenhausen_id29449
DTSTART;TZID=Europe/Berlin:20240427T080000
DTEND;TZID=Europe/Berlin:20240427T130000
LOCATION:Lenbachplatz\, Lenbachplatz\, 86529 Schrobenhausen
END:VEVENT
END:VCALENDAR
