BEGIN:VCALENDAR
VERSION:2.0
PRODID:-//Sabre//Sabre VObject 4.5.8//EN
CALSCALE:GREGORIAN
BEGIN:VEVENT
UID:sabre-vobject-f8e89c11-aeb0-46aa-ba02-3d47c2d60315
DTSTAMP:20260423T170252Z
SUMMARY:A-Capella Konzert des Ingolstädter Motettenchores
DESCRIPTION:https://regioningolstadt.com/a-capella-konzert-des-ingolstaedte
 r-motettenchores_id29320
DTSTART;TZID=Europe/Berlin:20240609T190000
DTEND;TZID=Europe/Berlin:20240609T210000
LOCATION:Kirche St. Josef\, Hans-Sachs-Str. 21\, 85055 Ingolstadt
END:VEVENT
END:VCALENDAR
