BEGIN:VCALENDAR
VERSION:2.0
PRODID:-//Sabre//Sabre VObject 4.5.8//EN
CALSCALE:GREGORIAN
BEGIN:VEVENT
UID:sabre-vobject-a1069ba4-ee1a-41e3-89a1-224613d8897f
DTSTAMP:20260424T072620Z
SUMMARY:Wer dablost's - die Kabarett-Mixed-Show mit Andreas M. Hofmeir
DESCRIPTION:https://regioningolstadt.com/wer-dablost-s-die-kabarett-mixed-s
 how-mit-andreas-m-hofmeir_id29292
DTSTART;TZID=Europe/Berlin:20240630T200000
DURATION:PT30M
LOCATION:Bauerngerätemuseum\, Probststraße 13\, 85049 Ingolstadt
END:VEVENT
END:VCALENDAR
