BEGIN:VCALENDAR
VERSION:2.0
PRODID:-//Sabre//Sabre VObject 4.5.8//EN
CALSCALE:GREGORIAN
BEGIN:VEVENT
UID:sabre-vobject-30e29ba2-76db-4e9c-b880-cac742485d51
DTSTAMP:20260425T005451Z
SUMMARY:30 Jahre THI - ON Campus Festival
DESCRIPTION:https://regioningolstadt.com/30-jahre-thi-on-campus-festival_id
 29236
DTSTART;TZID=Europe/Berlin:20240607T160000
DURATION:PT30M
LOCATION:Technische Hochschule Ingolstadt\, Esplanade 10\, 85049 Ingolstadt
END:VEVENT
END:VCALENDAR
