BEGIN:VCALENDAR
VERSION:2.0
PRODID:-//Sabre//Sabre VObject 4.5.8//EN
CALSCALE:GREGORIAN
BEGIN:VEVENT
UID:sabre-vobject-9274a966-4cf4-460e-81cc-7ff89261f3f5
DTSTAMP:20260419T165618Z
SUMMARY:Bildende Kunst von Europäischem Rang in Bayern - Von Albrecht Dür
 er zu Wassily Kandinsky - Ihre Ausstrahlung und Vernetzung
DESCRIPTION:https://regioningolstadt.com/bildende-kunst-von-europaeischem-r
 ang-in-bayern-von-albrecht-duerer-zu-wassily-kandinsky-ihre-ausstrahlung-u
 nd-vernetzung_id29209
DTSTART;TZID=Europe/Berlin:20240717T191500
DTEND;TZID=Europe/Berlin:20240717T201500
LOCATION:Volkshochschule Ingolstadt\, Hallstraße 5\, 85049 Ingolstadt
END:VEVENT
END:VCALENDAR
