BEGIN:VCALENDAR
VERSION:2.0
PRODID:-//Sabre//Sabre VObject 4.5.8//EN
CALSCALE:GREGORIAN
BEGIN:VEVENT
UID:sabre-vobject-297d3364-248c-4e21-9c39-0d015ecd9bd1
DTSTAMP:20260426T022739Z
SUMMARY:Bildende Kunst von Europäischem Rang in Bayern - Von Albrecht Dür
 er zu Wassily Kandinsky - Ihre Ausstrahlung und Vernetzung
DESCRIPTION:https://regioningolstadt.com/bildende-kunst-von-europaeischem-r
 ang-in-bayern-von-albrecht-duerer-zu-wassily-kandinsky-ihre-ausstrahlung-u
 nd-vernetzung_id29206
DTSTART;TZID=Europe/Berlin:20240605T191500
DTEND;TZID=Europe/Berlin:20240605T201500
LOCATION:Volkshochschule Ingolstadt\, Hallstraße 5\, 85049 Ingolstadt
END:VEVENT
END:VCALENDAR
