BEGIN:VCALENDAR
VERSION:2.0
PRODID:-//Sabre//Sabre VObject 4.5.8//EN
CALSCALE:GREGORIAN
BEGIN:VEVENT
UID:sabre-vobject-474e4d42-e543-4136-bc57-e0044dd075cf
DTSTAMP:20260421T141310Z
SUMMARY:„Die in Brüssel" besser verstehen - Europapolitik erklärt
DESCRIPTION:https://regioningolstadt.com/die-in-bruessel-besser-verstehen-e
 uropapolitik-erklaert_id29189
DTSTART;TZID=Europe/Berlin:20240603T190000
DURATION:PT30M
LOCATION:Volkshochschule Ingolstadt\, Hallstraße 5\, 85049 Ingolstadt
END:VEVENT
END:VCALENDAR
