BEGIN:VCALENDAR
VERSION:2.0
PRODID:-//Sabre//Sabre VObject 4.5.8//EN
CALSCALE:GREGORIAN
BEGIN:VEVENT
UID:sabre-vobject-0d60dc6b-a226-42bb-8aa1-6455deb29d2c
DTSTAMP:20260423T173634Z
SUMMARY:Stress im Alltag? Ursachen erkennen und verringern.
DESCRIPTION:https://regioningolstadt.com/stress-im-alltag-ursachen-erkennen
 -und-verringern_id29172
DTSTART;TZID=Europe/Berlin:20240613T160000
DTEND;TZID=Europe/Berlin:20240613T180000
LOCATION:Bürgerhaus "Alte Post"\, Kreuzstraße 12\, 85049 Ingolstadt
END:VEVENT
END:VCALENDAR
