BEGIN:VCALENDAR
VERSION:2.0
PRODID:-//Sabre//Sabre VObject 4.5.8//EN
CALSCALE:GREGORIAN
BEGIN:VEVENT
UID:sabre-vobject-da62cb15-0758-4837-b3b1-4980fcb92962
DTSTAMP:20260424T113129Z
SUMMARY:Charles Leimer & Friends
DESCRIPTION:https://regioningolstadt.com/charles-leimer-friends_id29105
DTSTART;TZID=Europe/Berlin:20240614T200000
DURATION:PT30M
LOCATION:Neue Welt\, Griesbadgasse 7\, 85049 Ingolstadt
END:VEVENT
END:VCALENDAR
