BEGIN:VCALENDAR
VERSION:2.0
PRODID:-//Sabre//Sabre VObject 4.5.8//EN
CALSCALE:GREGORIAN
BEGIN:VEVENT
UID:sabre-vobject-18d65b47-9365-4181-965c-899b89b79db9
DTSTAMP:20260421T171341Z
SUMMARY:Vorlesen auf ungarischer Sprache
DESCRIPTION:https://regioningolstadt.com/vorlesen-auf-ungarischer-sprache_i
 d29096
DTSTART;TZID=Europe/Berlin:20240708T163000
DTEND;TZID=Europe/Berlin:20240708T170000
LOCATION:Stadtbücherei im Herzogskasten\, Hallstraße 2 - 4\, 85049 Ingols
 tadt
END:VEVENT
END:VCALENDAR
