BEGIN:VCALENDAR
VERSION:2.0
PRODID:-//Sabre//Sabre VObject 4.5.8//EN
CALSCALE:GREGORIAN
BEGIN:VEVENT
UID:sabre-vobject-44fdc1b7-871d-498f-b860-2c60802ea9c7
DTSTAMP:20260423T145847Z
SUMMARY:Vorlesen in spanischer Sprache
DESCRIPTION:https://regioningolstadt.com/vorlesen-in-spanischer-sprache_id2
 9095
DTSTART;TZID=Europe/Berlin:20240703T160000
DTEND;TZID=Europe/Berlin:20240703T163000
LOCATION:Stadtbücherei im Herzogskasten\, Hallstraße 2 - 4\, 85049 Ingols
 tadt
END:VEVENT
END:VCALENDAR
