BEGIN:VCALENDAR
VERSION:2.0
PRODID:-//Sabre//Sabre VObject 4.5.8//EN
CALSCALE:GREGORIAN
BEGIN:VEVENT
UID:sabre-vobject-a2d4f9f5-5fa7-4986-a3af-09a4f38c4c5e
DTSTAMP:20260422T214032Z
SUMMARY:Vorlesen in spanischer Sprache
DESCRIPTION:https://regioningolstadt.com/vorlesen-in-spanischer-sprache_id2
 9094
DTSTART;TZID=Europe/Berlin:20240612T160000
DTEND;TZID=Europe/Berlin:20240612T163000
LOCATION:Stadtbücherei im Herzogskasten\, Hallstraße 2 - 4\, 85049 Ingols
 tadt
END:VEVENT
END:VCALENDAR
