BEGIN:VCALENDAR
VERSION:2.0
PRODID:-//Sabre//Sabre VObject 4.5.8//EN
CALSCALE:GREGORIAN
BEGIN:VEVENT
UID:sabre-vobject-07b132df-9483-4dd9-abb3-deea3108f1ee
DTSTAMP:20260423T124151Z
SUMMARY:Vorlesen auf ungarischer Sprache
DESCRIPTION:https://regioningolstadt.com/vorlesen-auf-ungarischer-sprache_i
 d29093
DTSTART;TZID=Europe/Berlin:20240610T163000
DTEND;TZID=Europe/Berlin:20240610T170000
LOCATION:Stadtbücherei im Herzogskasten\, Hallstraße 2 - 4\, 85049 Ingols
 tadt
END:VEVENT
END:VCALENDAR
