BEGIN:VCALENDAR
VERSION:2.0
PRODID:-//Sabre//Sabre VObject 4.5.8//EN
CALSCALE:GREGORIAN
BEGIN:VEVENT
UID:sabre-vobject-701565b0-5a9b-4ffd-a994-6ec74e18c89c
DTSTAMP:20260420T192421Z
SUMMARY:Ganes präsentieren „Or brüm - cordes y flé“
DESCRIPTION:https://regioningolstadt.com/ganes-praesentieren-or-bruem-corde
 s-y-fle_id29086
DTSTART;TZID=Europe/Berlin:20240414T200000
DURATION:PT30M
LOCATION:Kulturzentrum neun\, Elisabethstraße 9 a\, 85051 Ingolstadt
END:VEVENT
END:VCALENDAR
