BEGIN:VCALENDAR
VERSION:2.0
PRODID:-//Sabre//Sabre VObject 4.5.8//EN
CALSCALE:GREGORIAN
BEGIN:VEVENT
UID:sabre-vobject-73fd2017-ddb9-4c37-a517-73fddc391e8b
DTSTAMP:20260419T235202Z
SUMMARY:Google Unternehmensprofil – Nächste Schritte
DESCRIPTION:https://regioningolstadt.com/google-unternehmensprofil-naechste
 -schritte_id29061
DTSTART;TZID=Europe/Berlin:20240416T170000
DTEND;TZID=Europe/Berlin:20240416T180000
LOCATION:Online-Veranstaltung\, \,  
END:VEVENT
END:VCALENDAR
