BEGIN:VCALENDAR
VERSION:2.0
PRODID:-//Sabre//Sabre VObject 4.5.8//EN
CALSCALE:GREGORIAN
BEGIN:VEVENT
UID:sabre-vobject-1bfc5756-d669-4c2a-a344-276921b0b759
DTSTAMP:20260423T193129Z
SUMMARY:Kostenloses Einstiegsseminar für Existenzgründer
DESCRIPTION:https://regioningolstadt.com/kostenloses-einstiegsseminar-fuer-
 existenzgruender_id29014
DTSTART;TZID=Europe/Berlin:20240723T170000
DTEND;TZID=Europe/Berlin:20240723T200000
LOCATION:Handwerkskammer und Berufsbildungszentrum\, Brückenkopf 3\, 85051
  Ingolstadt
END:VEVENT
END:VCALENDAR
