BEGIN:VCALENDAR
VERSION:2.0
PRODID:-//Sabre//Sabre VObject 4.5.8//EN
CALSCALE:GREGORIAN
BEGIN:VEVENT
UID:sabre-vobject-f289a974-62a0-44b0-86fa-26cf07a2bb91
DTSTAMP:20260421T114239Z
SUMMARY:Politischer Stammtisch der UWG
DESCRIPTION:https://regioningolstadt.com/politischer-stammtisch-der-uwg_id2
 8996
DTSTART;TZID=Europe/Berlin:20241211T190000
DTEND;TZID=Europe/Berlin:20241211T210000
LOCATION:Le Café\, Schrannenstraße 1\, 85049 Ingolstadt
END:VEVENT
END:VCALENDAR
