BEGIN:VCALENDAR
VERSION:2.0
PRODID:-//Sabre//Sabre VObject 4.5.8//EN
CALSCALE:GREGORIAN
BEGIN:VEVENT
UID:sabre-vobject-c3a75a6a-bc2f-4c8b-bd25-9211157d9b79
DTSTAMP:20260423T102833Z
SUMMARY:Bläserserenade
DESCRIPTION:https://regioningolstadt.com/blaeserserenade_id28987
DTSTART;TZID=Europe/Berlin:20240721T193000
DTEND;TZID=Europe/Berlin:20240721T203000
LOCATION:St. Matthäuskirche\, Schrannenstraße 7\, 85049 Ingolstadt
END:VEVENT
END:VCALENDAR
