BEGIN:VCALENDAR
VERSION:2.0
PRODID:-//Sabre//Sabre VObject 4.5.8//EN
CALSCALE:GREGORIAN
BEGIN:VEVENT
UID:sabre-vobject-0fe82599-5102-4bc9-8c8a-e070c8fda372
DTSTAMP:20260424T233425Z
SUMMARY:FRANZ LISZT: DIE DREI GROSSEN ORGELWERKE  (II)
DESCRIPTION:https://regioningolstadt.com/franz-liszt-die-drei-grossen-orgel
 werke-ii_id28985
DTSTART;TZID=Europe/Berlin:20240615T193000
DTEND;TZID=Europe/Berlin:20240615T203000
LOCATION:St. Matthäuskirche\, Schrannenstraße 7\, 85049 Ingolstadt
END:VEVENT
END:VCALENDAR
