BEGIN:VCALENDAR
VERSION:2.0
PRODID:-//Sabre//Sabre VObject 4.5.8//EN
CALSCALE:GREGORIAN
BEGIN:VEVENT
UID:sabre-vobject-10720c94-4256-43c0-9d81-4f7b0d62bbf8
DTSTAMP:20260423T052529Z
SUMMARY:Politischer Stammtisch der UWG
DESCRIPTION:https://regioningolstadt.com/politischer-stammtisch-der-uwg_id2
 8984
DTSTART;TZID=Europe/Berlin:20240612T190000
DTEND;TZID=Europe/Berlin:20240612T210000
LOCATION:Le Café\, Schrannenstraße 1\, 85049 Ingolstadt
END:VEVENT
END:VCALENDAR
