BEGIN:VCALENDAR
VERSION:2.0
PRODID:-//Sabre//Sabre VObject 4.5.8//EN
CALSCALE:GREGORIAN
BEGIN:VEVENT
UID:sabre-vobject-052bbc67-0162-4dbc-a37d-337966a16229
DTSTAMP:20260421T012844Z
SUMMARY:Das Bayerische Armeemuseum - ein Rundgang
DESCRIPTION:https://regioningolstadt.com/das-bayerische-armeemuseum-ein-run
 dgang_id28980
DTSTART;TZID=Europe/Berlin:20240414T140000
DTEND;TZID=Europe/Berlin:20240414T160000
LOCATION:Bayerisches Armeemuseum im Neuen Schloss\, Paradeplatz 4\, 85049 I
 ngolstadt
END:VEVENT
END:VCALENDAR
