BEGIN:VCALENDAR
VERSION:2.0
PRODID:-//Sabre//Sabre VObject 4.5.8//EN
CALSCALE:GREGORIAN
BEGIN:VEVENT
UID:sabre-vobject-e43c25d8-5202-4002-b59a-c52022c449b1
DTSTAMP:20260423T064637Z
SUMMARY:vor Ort: Prämierungsfeier – Gründerpreis Ingolstadt
DESCRIPTION:https://regioningolstadt.com/vor-ort-praemierungsfeier-gruender
 preis-ingolstadt_id28839
DTSTART;TZID=Europe/Berlin:20240612T190000
DTEND;TZID=Europe/Berlin:20240612T220000
LOCATION:Maritim Hotel Congress Centrum Ingolstadt\, Gießerei-Platz 1\, 85
 049 Ingolstadt
END:VEVENT
END:VCALENDAR
