BEGIN:VCALENDAR
VERSION:2.0
PRODID:-//Sabre//Sabre VObject 4.5.8//EN
CALSCALE:GREGORIAN
BEGIN:VEVENT
UID:sabre-vobject-be992715-163f-4a7b-a126-075c36fa47a6
DTSTAMP:20260422T221547Z
SUMMARY:Mit dem Wasserfloh unterwegs
DESCRIPTION:https://regioningolstadt.com/mit-dem-wasserfloh-unterwegs_id288
 16
DTSTART;TZID=Europe/Berlin:20240706T100000
DTEND;TZID=Europe/Berlin:20240706T130000
LOCATION:Jugendbildungshaus der Umweltstation am Baggersee\, Oberschüttweg
  25\, 85049 Ingolstadt
END:VEVENT
END:VCALENDAR
