BEGIN:VCALENDAR
VERSION:2.0
PRODID:-//Sabre//Sabre VObject 4.5.8//EN
CALSCALE:GREGORIAN
BEGIN:VEVENT
UID:sabre-vobject-112f6768-60aa-49f2-a161-61f2eddd13c1
DTSTAMP:20260424T065601Z
SUMMARY:Erlebnis Lagerfeuer für Söhne und Ihre Papas
DESCRIPTION:https://regioningolstadt.com/erlebnis-lagerfeuer-fuer-soehne-un
 d-ihre-papas_id28815
DTSTART;TZID=Europe/Berlin:20240614T150000
DTEND;TZID=Europe/Berlin:20240614T180000
LOCATION:Jugendbildungshaus der Umweltstation am Baggersee\, Oberschüttweg
  25\, 85049 Ingolstadt
END:VEVENT
END:VCALENDAR
