BEGIN:VCALENDAR
VERSION:2.0
PRODID:-//Sabre//Sabre VObject 4.5.8//EN
CALSCALE:GREGORIAN
BEGIN:VEVENT
UID:sabre-vobject-ef61bb67-2eaa-4ef9-9b20-330cca6f106f
DTSTAMP:20260422T201842Z
SUMMARY:Lebensraum Wald - tierisch wild
DESCRIPTION:https://regioningolstadt.com/lebensraum-wald-tierisch-wild_id28
 814
DTSTART;TZID=Europe/Berlin:20240612T160000
DTEND;TZID=Europe/Berlin:20240612T180000
LOCATION:Jugendbildungshaus der Umweltstation am Baggersee\, Oberschüttweg
  25\, 85049 Ingolstadt
END:VEVENT
END:VCALENDAR
