BEGIN:VCALENDAR
VERSION:2.0
PRODID:-//Sabre//Sabre VObject 4.5.8//EN
CALSCALE:GREGORIAN
BEGIN:VEVENT
UID:sabre-vobject-1fe4f004-88f3-437b-bbde-ad63b5761625
DTSTAMP:20260420T025440Z
SUMMARY:Lebensraum Wald - tierisch wild
DESCRIPTION:https://regioningolstadt.com/lebensraum-wald-tierisch-wild_id28
 807
DTSTART;TZID=Europe/Berlin:20240416T160000
DTEND;TZID=Europe/Berlin:20240416T180000
LOCATION:Jugendbildungshaus der Umweltstation am Baggersee\, Oberschüttweg
  25\, 85049 Ingolstadt
END:VEVENT
END:VCALENDAR
