BEGIN:VCALENDAR
VERSION:2.0
PRODID:-//Sabre//Sabre VObject 4.5.8//EN
CALSCALE:GREGORIAN
BEGIN:VEVENT
UID:sabre-vobject-e6850397-6339-4af6-a764-515e1cab1ac2
DTSTAMP:20260422T140457Z
SUMMARY:ReparaturCafé
DESCRIPTION:https://regioningolstadt.com/reparaturcafe_id28749
DTSTART;TZID=Europe/Berlin:20240706T150000
DTEND;TZID=Europe/Berlin:20240706T180000
LOCATION:Bürgerhaus Neuburger Kasten\, II. OG\, Seminarraum 24\, Fechtgass
 e 6\, 85049 Ingolstadt
END:VEVENT
END:VCALENDAR
