BEGIN:VCALENDAR
VERSION:2.0
PRODID:-//Sabre//Sabre VObject 4.5.8//EN
CALSCALE:GREGORIAN
BEGIN:VEVENT
UID:sabre-vobject-4d713e7b-e037-436f-8ed4-9f382906e108
DTSTAMP:20260421T005416Z
SUMMARY:ReparaturCafé
DESCRIPTION:https://regioningolstadt.com/reparaturcafe_id28748
DTSTART;TZID=Europe/Berlin:20240601T150000
DTEND;TZID=Europe/Berlin:20240601T180000
LOCATION:Bürgerhaus Neuburger Kasten\, II. OG\, Seminarraum 24\, Fechtgass
 e 6\, 85049 Ingolstadt
END:VEVENT
END:VCALENDAR
