BEGIN:VCALENDAR
VERSION:2.0
PRODID:-//Sabre//Sabre VObject 4.5.8//EN
CALSCALE:GREGORIAN
BEGIN:VEVENT
UID:sabre-vobject-e3382464-1e5b-406e-a9ca-95da53bdd0c5
DTSTAMP:20260425T042735Z
SUMMARY:Weinanbau in Neuburg an der Donau
DESCRIPTION:https://regioningolstadt.com/weinanbau-in-neuburg-an-der-donau_
 id28705
DTSTART;TZID=Europe/Berlin:20240501T000000
DTEND;TZID=Europe/Berlin:20240930T000000
LOCATION:86633 Neuburg an der Donau\, Am Weinberg im Eulatal
END:VEVENT
END:VCALENDAR
