BEGIN:VCALENDAR
VERSION:2.0
PRODID:-//Sabre//Sabre VObject 4.5.8//EN
CALSCALE:GREGORIAN
BEGIN:VEVENT
UID:sabre-vobject-28ba62f5-7862-44e1-ab01-74a1ab7ff6d4
DTSTAMP:20260422T060348Z
SUMMARY:Öffentliche Führung
DESCRIPTION:https://regioningolstadt.com/oeffentliche-fuehrung_id28673
DTSTART;TZID=Europe/Berlin:20240728T140000
DTEND;TZID=Europe/Berlin:20240728T160000
LOCATION:Rennertshofen-Mauern\, Treffpunkt Informationstafeln Parkplatz Mau
 erner Höhlen\, Quellenweg 2\, 86643 Rennertshofen
END:VEVENT
END:VCALENDAR
