BEGIN:VCALENDAR
VERSION:2.0
PRODID:-//Sabre//Sabre VObject 4.5.8//EN
CALSCALE:GREGORIAN
BEGIN:VEVENT
UID:sabre-vobject-8c474e69-043b-4152-a24b-5fbb7019743c
DTSTAMP:20260422T073700Z
SUMMARY:Öffentliche Führung
DESCRIPTION:https://regioningolstadt.com/oeffentliche-fuehrung_id28672
DTSTART;TZID=Europe/Berlin:20240727T140000
DTEND;TZID=Europe/Berlin:20240727T160000
LOCATION:Neuburg an der Donau\, Treffpunkt Schlösslwiese\, Zur Ringmeierbu
 cht 4\, 86633 Neuburg an der Donau
END:VEVENT
END:VCALENDAR
