BEGIN:VCALENDAR
VERSION:2.0
PRODID:-//Sabre//Sabre VObject 4.5.8//EN
CALSCALE:GREGORIAN
BEGIN:VEVENT
UID:sabre-vobject-32ca136b-3fcd-4209-84ca-3bc5d2eee1fa
DTSTAMP:20260420T220810Z
SUMMARY:Führung durch das Kavalier Dalwigk
DESCRIPTION:https://regioningolstadt.com/fuehrung-durch-das-kavalier-dalwig
 k_id28108
DTSTART;TZID=Europe/Berlin:20260731T160000
DTEND;TZID=Europe/Berlin:20260731T170000
LOCATION:Kavalier Dalwigk\, Schlosslände 26\, 85049 Ingolstadt
END:VEVENT
END:VCALENDAR
