BEGIN:VCALENDAR
VERSION:2.0
PRODID:-//Sabre//Sabre VObject 4.5.8//EN
CALSCALE:GREGORIAN
BEGIN:VEVENT
UID:sabre-vobject-075e5cae-de19-4e48-86a2-7fa43c8d2847
DTSTAMP:20260420T155712Z
SUMMARY:Führung durch das Kavalier Dalwigk
DESCRIPTION:https://regioningolstadt.com/fuehrung-durch-das-kavalier-dalwig
 k_id28104
DTSTART;TZID=Europe/Berlin:20260703T160000
DTEND;TZID=Europe/Berlin:20260703T170000
LOCATION:Kavalier Dalwigk\, Schlosslände 26\, 85049 Ingolstadt
END:VEVENT
END:VCALENDAR
