BEGIN:VCALENDAR
VERSION:2.0
PRODID:-//Sabre//Sabre VObject 4.5.8//EN
CALSCALE:GREGORIAN
BEGIN:VEVENT
UID:sabre-vobject-ae5311b8-4917-4f11-9018-12e38bbb842d
DTSTAMP:20260421T071154Z
SUMMARY:Führung durch das Kavalier Dalwigk
DESCRIPTION:https://regioningolstadt.com/fuehrung-durch-das-kavalier-dalwig
 k_id28082
DTSTART;TZID=Europe/Berlin:20260130T160000
DTEND;TZID=Europe/Berlin:20260130T170000
LOCATION:Kavalier Dalwigk\, Schlosslände 26\, 85049 Ingolstadt
END:VEVENT
END:VCALENDAR
